BEGIN:VCALENDAR
VERSION:2.0
PRODID:icalendar-ruby
CALSCALE:GREGORIAN
METHOD:PUBLISH
BEGIN:VEVENT
DTSTAMP:20260425T144315Z
UID:197-1309609@fbcmaryville.com
DTSTART:20260923T233000Z
DTEND:20260924T003000Z
CLASS:PUBLIC
CREATED:20260425T084509
DESCRIPTION:FBC Youth 
LAST-MODIFIED:20260425T084509
LOCATION:FBC Maryville 
SUMMARY:FBC Youth 
URL;VALUE=URI:https://www.fbcmaryville.com/events/fbc-youth--197/2026-09-23
END:VEVENT
END:VCALENDAR
