BEGIN:VCALENDAR
VERSION:2.0
PRODID:icalendar-ruby
CALSCALE:GREGORIAN
METHOD:PUBLISH
BEGIN:VEVENT
DTSTAMP:20260425T170748Z
UID:197-1310525@fbcmaryville.com
DTSTART:20261007T233000Z
DTEND:20261008T003000Z
CLASS:PUBLIC
CREATED:20260425T112541
DESCRIPTION:FBC Youth 
LAST-MODIFIED:20260425T112541
LOCATION:FBC Maryville 
SUMMARY:FBC Youth 
URL;VALUE=URI:https://www.fbcmaryville.com/events/fbc-youth--197/2026-10-07
END:VEVENT
END:VCALENDAR
