BEGIN:VCALENDAR
VERSION:2.0
PRODID:icalendar-ruby
CALSCALE:GREGORIAN
METHOD:PUBLISH
BEGIN:VEVENT
DTSTAMP:20260425T194647Z
UID:197-1311441@fbcmaryville.com
DTSTART:20261021T233000Z
DTEND:20261022T003000Z
CLASS:PUBLIC
CREATED:20260425T140557
DESCRIPTION:FBC Youth 
LAST-MODIFIED:20260425T140557
LOCATION:FBC Maryville 
SUMMARY:FBC Youth 
URL;VALUE=URI:https://www.fbcmaryville.com/events/fbc-youth--197/2026-10-21
END:VEVENT
END:VCALENDAR
