BEGIN:VCALENDAR
VERSION:2.0
PRODID:icalendar-ruby
CALSCALE:GREGORIAN
METHOD:PUBLISH
BEGIN:VEVENT
DTSTAMP:20260425T211330Z
UID:197-1311442@fbcmaryville.com
DTSTART:20261028T233000Z
DTEND:20261029T003000Z
CLASS:PUBLIC
CREATED:20260425T140557
DESCRIPTION:FBC Youth 
LAST-MODIFIED:20260425T140557
LOCATION:FBC Maryville 
SUMMARY:FBC Youth 
URL;VALUE=URI:https://www.fbcmaryville.com/events/fbc-youth--197/2026-10-28
END:VEVENT
END:VCALENDAR
