BEGIN:VCALENDAR
VERSION:2.0
PRODID:icalendar-ruby
CALSCALE:GREGORIAN
METHOD:PUBLISH
BEGIN:VEVENT
DTSTAMP:20260425T223846Z
UID:197-1312357@fbcmaryville.com
DTSTART:20261105T003000Z
DTEND:20261105T013000Z
CLASS:PUBLIC
CREATED:20260425T164806
DESCRIPTION:FBC Youth 
LAST-MODIFIED:20260425T164806
LOCATION:FBC Maryville 
SUMMARY:FBC Youth 
URL;VALUE=URI:https://www.fbcmaryville.com/events/fbc-youth--197/2026-11-04
END:VEVENT
END:VCALENDAR
